BEGIN:VCALENDAR
PRODID:-//github.com/rianjs/ical.net//NONSGML ical.net 4.0//EN
VERSION:2.0
BEGIN:VEVENT
DESCRIPTION:Skolestart
DTEND:20270816T235959
DTSTAMP:20260420T135003Z
DTSTART;VALUE=DATE:20270816
SEQUENCE:0
SUMMARY:Skolestart
UID:1703881c-3221-4481-b812-dc573b92ccc7
END:VEVENT
END:VCALENDAR
